View In:
ArcGIS JavaScript
ArcGIS Online Map Viewer
ArcGIS Earth
ArcMap
View Footprint In:
ArcGIS Online Map Viewer
Service Description: ArcSASK_DBO_3922_0002_01_T1963_NAPL_112000
Name: ArcSASK_DBO_3922_0002_01_T1963_NAPL_112000
Description:
Single Fused Map Cache: false
Extent:
XMin: -1.2084137900424741E7
YMin: 6969172.310935802
XMax: -1.2042689483128252E7
YMax: 7022811.439201848
Spatial Reference: 102100
(3857)
Initial Extent:
XMin: -1.2084137900424741E7
YMin: 6969172.310935802
XMax: -1.2042689483128252E7
YMax: 7022811.439201848
Spatial Reference: 102100
(3857)
Full Extent:
XMin: -1.2084137900424741E7
YMin: 6969172.310935802
XMax: -1.2042689483128252E7
YMax: 7022811.439201848
Spatial Reference: 102100
(3857)
Pixel Size X: 11.61020092338647
Pixel Size Y: 11.610200923386541
Band Count: 3
Pixel Type: U8
RasterFunction Infos: {"rasterFunctionInfos": [{
"name": "None",
"description": "",
"help": ""
}]}
Mensuration Capabilities: Basic
Has Histograms: true
Has Colormap: false
Has Multi Dimensions : false
Rendering Rule:
Min Scale: 0
Max Scale: 0
Copyright Text:
Service Data Type: esriImageServiceDataTypeRGB
Min Values: 0, 0, 0
Max Values: 255, 255, 255
Mean Values: 164.67910636983, 164.67910636983, 164.67910636983
Standard Deviation Values: 71.053275444406, 71.053275444406, 71.053275444406
Object ID Field:
Fields:
None
Default Mosaic Method: Center
Allowed Mosaic Methods:
SortField:
SortValue: null
Mosaic Operator: First
Default Compression Quality: 75
Default Resampling Method: Bilinear
Max Record Count: null
Max Image Height: 4100
Max Image Width: 15000
Max Download Image Count: null
Max Mosaic Image Count: null
Allow Raster Function: true
Allow Copy: true
Allow Analysis: true
Allow Compute TiePoints: false
Supports Statistics: false
Supports Advanced Queries: false
Use StandardizedQueries: true
Raster Type Infos:
Name: Raster Dataset
Description: Supports all ArcGIS Raster Datasets
Help:
Has Raster Attribute Table: false
Edit Fields Info: null
Ownership Based AccessControl For Rasters: null
Child Resources:
Info
Histograms
Statistics
Key Properties
Legend
Raster Function Infos
Supported Operations:
Export Image
Identify
Measure
Compute Histograms
Compute Statistics Histograms
Get Samples
Compute Class Statistics
Query Boundary
Compute Pixel Location
Validate
Project